BEGIN:VCALENDAR
VERSION:2.0
PRODID:-//Tukios.com/
BEGIN:VEVENT
UID:39da65ec-5ad3-49b5-adb9-d2965c554acd@www.cremationqc.com
DTSTAMP:20260421T042109Z
DTSTART:20260510T180000Z
DTEND:20260510T190000Z
SUMMARY:Celebration of Life
DESCRIPTION:
URL:https://www.cremationqc.com/obituaries/shirley-rexroad
LOCATION:First Presbyterian Church 200 S 12th St  Le Claire IA 52753
GEO:41.5962207;-90.3586471
END:VEVENT
END:VCALENDAR